BEGIN:VCALENDAR
VERSION:2.0
PRODID:-//Intand Corporation//Tandem//EN
METHOD:PUBLISH
BEGIN:VEVENT
DTSTAMP:20260426T032458Z
DTSTART:20260429T153500Z
DTEND:20260429T160000Z
TRANSP:TRANSPARENT
PRIORITY:0
SUMMARY:KS Family Music Share
LOCATION:MLS 205
DESCRIPTION:Groups:\nMLS Grade Kindergarten\n\nSchools:\nThomas Metcalf Sc
 hool\n\nLocation:\nMLS 205\n\n
URL;VALUE=URI:http://metcalf.tandem.co/index.php?type=view&action=event&id
 =26412
CREATED:20260408T192939Z
LAST-MODIFIED:20260408T192939Z
UID:event-26412-metcalf@intand.com
END:VEVENT
END:VCALENDAR
