BEGIN:VCALENDAR
VERSION:2.0
PRODID:-//Intand Corporation//Tandem//EN
METHOD:PUBLISH
BEGIN:VEVENT
DTSTAMP:20260426T032052Z
DTSTART:20260430T174000Z
DTEND:20260430T181000Z
TRANSP:TRANSPARENT
PRIORITY:0
SUMMARY:2M Family Music Share
LOCATION:MLS 205
DESCRIPTION:Groups:\nMLS Grade 2\n\nSchools:\nThomas Metcalf School\n\nLoc
 ation:\nMLS 205\n\n
URL;VALUE=URI:http://metcalf.tandem.co/index.php?type=view&action=event&id
 =26434
CREATED:20260422T152140Z
LAST-MODIFIED:20260422T152140Z
UID:event-26434-metcalf@intand.com
END:VEVENT
END:VCALENDAR
